BEGIN:VCALENDAR
VERSION:2.0
PRODID:-//Radio PARALAX - ECPv5.11.0//NONSGML v1.0//EN
CALSCALE:GREGORIAN
METHOD:PUBLISH
X-WR-CALNAME:Radio PARALAX
X-ORIGINAL-URL:https://www.radio-paralax.de
X-WR-CALDESC:Veranstaltungen für Radio PARALAX
BEGIN:VTIMEZONE
TZID:Europe/Berlin
BEGIN:DAYLIGHT
TZOFFSETFROM:+0100
TZOFFSETTO:+0200
TZNAME:CEST
DTSTART:20250330T010000
END:DAYLIGHT
BEGIN:STANDARD
TZOFFSETFROM:+0200
TZOFFSETTO:+0100
TZNAME:CET
DTSTART:20251026T010000
END:STANDARD
END:VTIMEZONE
BEGIN:VEVENT
DTSTART;TZID=Europe/Berlin:20250707T201500
DTEND;TZID=Europe/Berlin:20250707T205500
DTSTAMP:20260422T165139
CREATED:20250707T053310Z
LAST-MODIFIED:20250707T053310Z
UID:5924-1751919300-1751921700@www.radio-paralax.de
SUMMARY:Arrivals 24-27/2025
DESCRIPTION:Die Neuvorstellungen der letzten 4 Wochen in einer kompakten Mini-Playlist zusammen gestellt. Bitte votet für alle Neuzugänge über die farbigen Smilies\, um die Qualität eurer Playliste dauerhaft verbessern zu können. Vielen Dank für eure Mithilfe und viel Spaß beim Voten! 🙂 \nBeitrag teilen:
URL:https://www.radio-paralax.de/event/arrivals-24-27-2025/
CATEGORIES:Playlist-Event
END:VEVENT
END:VCALENDAR